BEGIN:VCALENDAR
VERSION:2.0
PRODID:-//btv-turnen//btv-turnen.de//DE
CALSCALE:GREGORIAN
BEGIN:VEVENT
DTSTART:20250316T000001Z
DTEND:20250316T235959Z
LOCATION:Online
DTSTAMP:20260422T000001Z
SUMMARY:Trainer-/ Kampfrichterschulung LK/ AK
UID:20260422T000001Z-20250316T000001Z-20250316T235959Z
END:VEVENT
END:VCALENDAR