BEGIN:VCALENDAR
VERSION:2.0
PRODID:-//btv-turnen//btv-turnen.de//DE
CALSCALE:GREGORIAN
BEGIN:VEVENT
DTSTART:20221113T000001Z
DTEND:20221114T235959Z
LOCATION:Regionen Oberbayern$1 Schwaben$1 Niederbayern/Oberbayern$1 Oberpfalz/Mittelfranken$1 Oberfranken und Unterfranken
DTSTAMP:20260426T000001Z
SUMMARY:Bayernpokal Regionalentscheide 2022
UID:20260426T000001Z-20221113T000001Z-20221114T235959Z
END:VEVENT
END:VCALENDAR